BEGIN:VCALENDAR
VERSION:2.0
PRODID:-//Hudson Gardens - ECPv6.15.20//NONSGML v1.0//EN
CALSCALE:GREGORIAN
METHOD:PUBLISH
X-ORIGINAL-URL:https://hudsongardens.org
X-WR-CALDESC:Events for Hudson Gardens
REFRESH-INTERVAL;VALUE=DURATION:PT1H
X-Robots-Tag:noindex
X-PUBLISHED-TTL:PT1H
BEGIN:VTIMEZONE
TZID:America/Denver
BEGIN:DAYLIGHT
TZOFFSETFROM:-0700
TZOFFSETTO:-0600
TZNAME:MDT
DTSTART:20250309T090000
END:DAYLIGHT
BEGIN:STANDARD
TZOFFSETFROM:-0600
TZOFFSETTO:-0700
TZNAME:MST
DTSTART:20251102T080000
END:STANDARD
BEGIN:DAYLIGHT
TZOFFSETFROM:-0700
TZOFFSETTO:-0600
TZNAME:MDT
DTSTART:20260308T090000
END:DAYLIGHT
BEGIN:STANDARD
TZOFFSETFROM:-0600
TZOFFSETTO:-0700
TZNAME:MST
DTSTART:20261101T080000
END:STANDARD
BEGIN:DAYLIGHT
TZOFFSETFROM:-0700
TZOFFSETTO:-0600
TZNAME:MDT
DTSTART:20270314T090000
END:DAYLIGHT
BEGIN:STANDARD
TZOFFSETFROM:-0600
TZOFFSETTO:-0700
TZNAME:MST
DTSTART:20271107T080000
END:STANDARD
END:VTIMEZONE
BEGIN:VEVENT
DTSTART;TZID=America/Denver:20260413T080000
DTEND;TZID=America/Denver:20260413T170000
DTSTAMP:20260419T084359
CREATED:20260414T150056Z
LAST-MODIFIED:20260413T153802Z
UID:10000229-1776067200-1776099600@hudsongardens.org
SUMMARY:Birds of the Garden: Habitat\, Feeders & Bird-Friendly Spaces
DESCRIPTION:Gardens can be thriving habitats for birds—and you can help! Explore the garden to spot birds and observe their behaviors\, then learn practical tips for feeder care\, birdhouse maintenance\, and creating bird-friendly spaces in your own yard. Ideal for families\, beginner birders\, and garden lovers\, this program blends observation\, ecology\, and hands-on skills. Take home a checklist and tips to welcome birds to your garden year-round.
URL:https://hudsongardens.org/event/birds-of-the-garden-habitat-feeders-bird-friendly-spaces/
CATEGORIES:Birding,Outdoor Recreation & Education
ATTACH;FMTTYPE=image/jpeg:https://hudsongardens.org/wp-content/uploads/2026/04/DawnKey-scaled.jpg
END:VEVENT
BEGIN:VEVENT
DTSTART;TZID=America/Denver:20260408T180000
DTEND;TZID=America/Denver:20260408T203000
DTSTAMP:20260419T084359
CREATED:20260226T155501Z
LAST-MODIFIED:20260226T155501Z
UID:10000099-1775671200-1775680200@hudsongardens.org
SUMMARY:Installing Bees
DESCRIPTION:Your bees will be arriving soon – are you ready? Don’t miss this critical class covering the best techniques for installing package bees and nucleus frames into new and existing hives. You’ll learn how to select your bees’ genetic stock based on your hive environment\, how to safely deliver your bees from pick-up to hive\, and how to install your bees into their new home. This class will conclude with essential tips on how to ensure your hive gets off to a great start and what to expect from your hive in the first month.
URL:https://hudsongardens.org/event/installing-bees/
LOCATION:Colorado Room at Hudson Gardens\, 6115 S. Santa Fe Drive\, Littleton\, CO\, 80120
CATEGORIES:Beekeeping,Outdoor Recreation & Education
ATTACH;FMTTYPE=image/jpeg:https://hudsongardens.org/wp-content/uploads/2025/12/Class_Beekeeping.jpg
END:VEVENT
BEGIN:VEVENT
DTSTART;TZID=America/Denver:20260318T183000
DTEND;TZID=America/Denver:20260318T183000
DTSTAMP:20260419T084359
CREATED:20260204T192716Z
LAST-MODIFIED:20260227T174811Z
UID:10000007-1773858600-1773858600@hudsongardens.org
SUMMARY:Build a Bee Hotel
DESCRIPTION:Discover the fascinating world of native bees and help support pollinators in your own backyard! In this hands-on workshop\, participants will learn about the vital role bees play in our ecosystems and how to create safe\, cozy habitats for solitary bees. Each participant will design and build their own bee hotel using natural materials\, gaining practical skills to support local pollinators while connecting with nature. \nBy the end of the program\, you’ll leave with a customized bee hotel ready to attract buzzing guests and a deeper understanding of how to help pollinators thrive.
URL:https://hudsongardens.org/event/build-a-bee-hotel/
LOCATION:Colorado Room at Hudson Gardens\, 6115 S. Santa Fe Drive\, Littleton\, CO\, 80120
CATEGORIES:Beekeeping,Outdoor Recreation & Education
ATTACH;FMTTYPE=image/jpeg:https://hudsongardens.org/wp-content/uploads/2026/02/BeeHotel-2.jpg
END:VEVENT
END:VCALENDAR